BEGIN:VCALENDAR
VERSION:2.0
PRODID:-//Imkerverein Perg - ECPv4.8.2//NONSGML v1.0//EN
CALSCALE:GREGORIAN
METHOD:PUBLISH
X-WR-CALNAME:Imkerverein Perg
X-ORIGINAL-URL:https://www.imkerverein-perg.at
X-WR-CALDESC:Veranstaltungen im Imkerverein Perg
BEGIN:VEVENT
DTSTART;TZID=Europe/Berlin:20221105T070000
DTEND;TZID=Europe/Berlin:20221105T170000
DTSTAMP:20260424T124953
CREATED:20221031T224118Z
LAST-MODIFIED:20221031T224454Z
UID:687-1667631600-1667667600@www.imkerverein-perg.at
SUMMARY:TV-Tipp: Planet Schule - Insekten in Gefahr
DESCRIPTION:Insekten sind in die Schlagzeilen geraten. In manchen Gebieten ist ihre Zahl in den letzten Jahrzehnten um 75 Prozent zurückgegangen. Vom Insektensterben ist die Rede. Es scheint\, als ob keine Insektengruppe verschont bleibt: Libellen\, Bienen\, Käfer\, Schmetterlinge – überall gibt es vor allem Verlierer. \n
URL:https://www.imkerverein-perg.at/event/tv-tipp-planet-schule-insekten-in-gefahr/
LOCATION:TV-Sender – SWR
CATEGORIES:TV Tipp
END:VEVENT
END:VCALENDAR