BEGIN:VCALENDAR
VERSION:2.0
PRODID:-//Imkerverein Perg - ECPv4.8.2//NONSGML v1.0//EN
CALSCALE:GREGORIAN
METHOD:PUBLISH
X-WR-CALNAME:Imkerverein Perg
X-ORIGINAL-URL:https://www.imkerverein-perg.at
X-WR-CALDESC:Veranstaltungen im Imkerverein Perg
BEGIN:VEVENT
DTSTART;TZID=Europe/Berlin:20231209T110000
DTEND;TZID=Europe/Berlin:20231209T220000
DTSTAMP:20260425T131450
CREATED:20231010T201819Z
LAST-MODIFIED:20231010T201819Z
UID:762-1702119600-1702159200@www.imkerverein-perg.at
SUMMARY:Christkindlmarkt Perg
DESCRIPTION:
URL:https://www.imkerverein-perg.at/event/christkindlmarkt-perg-5/
LOCATION:Perg Christkindlmarkt\, Perg\, 4320\, Österreich
ORGANIZER;CN="Stadtmarketing%20PERG":MAILTO:g.kowatschek@perg.at
END:VEVENT
END:VCALENDAR