BEGIN:VCALENDAR
VERSION:2.0
PRODID:-//Imkerverein Perg - ECPv4.8.2//NONSGML v1.0//EN
CALSCALE:GREGORIAN
METHOD:PUBLISH
X-WR-CALNAME:Imkerverein Perg
X-ORIGINAL-URL:https://www.imkerverein-perg.at
X-WR-CALDESC:Veranstaltungen im Imkerverein Perg
BEGIN:VEVENT
DTSTART;TZID=Europe/Berlin:20230218T083000
DTEND;TZID=Europe/Berlin:20230218T190000
DTSTAMP:20260424T201728
CREATED:20230208T202120Z
LAST-MODIFIED:20230208T202120Z
UID:719-1676709000-1676746800@www.imkerverein-perg.at
SUMMARY:53. Fachtagung des ÖEIB
DESCRIPTION:Vorträge und Messe \n
URL:https://www.imkerverein-perg.at/event/53-fachtagung-des-oeeib-2/
LOCATION:Messezentrum Wels\, Messehalle 21\, Messeplatz 1\, Wels\, 4600
END:VEVENT
END:VCALENDAR