BEGIN:VCALENDAR
VERSION:2.0
PRODID:-//Imkerverein Perg - ECPv4.8.2//NONSGML v1.0//EN
CALSCALE:GREGORIAN
METHOD:PUBLISH
X-WR-CALNAME:Imkerverein Perg
X-ORIGINAL-URL:http://www.imkerverein-perg.at
X-WR-CALDESC:Veranstaltungen im Imkerverein Perg
BEGIN:VEVENT
DTSTART;TZID=Europe/Berlin:20260401T193000
DTEND;TZID=Europe/Berlin:20260401T220000
DTSTAMP:20260421T111116
CREATED:20260329T164519Z
LAST-MODIFIED:20260329T164519Z
UID:904-1775071800-1775080800@www.imkerverein-perg.at
SUMMARY:Stammtisch
DESCRIPTION:
URL:http://www.imkerverein-perg.at/event/stammtisch-73/
LOCATION:Gasthaus Lettner\, Hauptplatz 15\, Perg\, 4320\, Österreich
CATEGORIES:Stammtisch
END:VEVENT
END:VCALENDAR