BEGIN:VCALENDAR
VERSION:2.0
PRODID:-//Imkerverein Perg - ECPv4.8.2//NONSGML v1.0//EN
CALSCALE:GREGORIAN
METHOD:PUBLISH
X-WR-CALNAME:Imkerverein Perg
X-ORIGINAL-URL:http://www.imkerverein-perg.at
X-WR-CALDESC:Veranstaltungen im Imkerverein Perg
BEGIN:VEVENT
DTSTART;TZID=Europe/Berlin:20191015T193000
DTEND;TZID=Europe/Berlin:20191015T220000
DTSTAMP:20260423T115959
CREATED:20191002T185648Z
LAST-MODIFIED:20191002T190100Z
UID:385-1571167800-1571176800@www.imkerverein-perg.at
SUMMARY:Vortrag: Honig das Multitalent
DESCRIPTION:Ein Vortrag von Frau Dr. Eva Derndorfer\, Expertin für Lebensmittel\, über die positiven Eigenschaften von Honig. \n
URL:http://www.imkerverein-perg.at/event/vortrag-honig-das-multitalent/
LOCATION:Pfarrzentrum Schwertberg\, Friedhofstraße 7\, Schwertberg\, 4311\, Österreich
END:VEVENT
END:VCALENDAR