BEGIN:VCALENDAR
VERSION:2.0
PRODID:-//Imkerverein Perg - ECPv4.8.2//NONSGML v1.0//EN
CALSCALE:GREGORIAN
METHOD:PUBLISH
X-WR-CALNAME:Imkerverein Perg
X-ORIGINAL-URL:http://www.imkerverein-perg.at
X-WR-CALDESC:Veranstaltungen im Imkerverein Perg
BEGIN:VEVENT
DTSTART;TZID=Europe/Berlin:20200918T145000
DTEND;TZID=Europe/Berlin:20200918T153500
DTSTAMP:20260421T124245
CREATED:20200909T202642Z
LAST-MODIFIED:20200909T202642Z
UID:488-1600440600-1600443300@www.imkerverein-perg.at
SUMMARY:TV Tipp: Wilde Überlebenskünstler - Wie Tiere bauen
DESCRIPTION:Viele Tiere sind als Baumeister nicht weniger geschickt als der Mensch. Dass sie imstande sind\, Erstaunliches zu leisten\, zeigen die Turmbauten der Termiten ebenso wie die Waben von Wespen. \n
URL:http://www.imkerverein-perg.at/event/tv-tipp-wilde-ueberlebenskuenstler-wie-tiere-bauen/
LOCATION:TV-Sender – 3sat
END:VEVENT
END:VCALENDAR