BEGIN:VCALENDAR
VERSION:2.0
PRODID:-//Imkerverein Perg - ECPv4.8.2//NONSGML v1.0//EN
CALSCALE:GREGORIAN
METHOD:PUBLISH
X-WR-CALNAME:Imkerverein Perg
X-ORIGINAL-URL:http://www.imkerverein-perg.at
X-WR-CALDESC:Veranstaltungen im Imkerverein Perg
BEGIN:VEVENT
DTSTART;TZID=Europe/Berlin:20230106T201500
DTEND;TZID=Europe/Berlin:20230106T210000
DTSTAMP:20260424T192142
CREATED:20230102T212037Z
LAST-MODIFIED:20230102T212037Z
UID:704-1673036100-1673038800@www.imkerverein-perg.at
SUMMARY:TV Tipp: Tierische Rebellen - Auf Partnersuche
DESCRIPTION:Quelle: dpa / Bernd Settnik \nManche Tiere sind anscheinend völlig skrupellos: sie tricksen\, sie stehlen und manchmal wenden sie rohe Gewalt an\, um ans Ziel zu kommen. \n
URL:http://www.imkerverein-perg.at/event/tv-tipp-tierische-rebellen-auf-partnersuche/
LOCATION:TV- Sender – Phoenix
CATEGORIES:TV Tipp
END:VEVENT
END:VCALENDAR