BEGIN:VCALENDAR
VERSION:2.0
PRODID:-//Imkerverein Perg - ECPv4.8.2//NONSGML v1.0//EN
CALSCALE:GREGORIAN
METHOD:PUBLISH
X-WR-CALNAME:Imkerverein Perg
X-ORIGINAL-URL:http://www.imkerverein-perg.at
X-WR-CALDESC:Veranstaltungen im Imkerverein Perg
BEGIN:VEVENT
DTSTART;TZID=Europe/Berlin:20221102T032000
DTEND;TZID=Europe/Berlin:20221102T035000
DTSTAMP:20260424T094542
CREATED:20221031T223906Z
LAST-MODIFIED:20221031T223906Z
UID:685-1667359200-1667361000@www.imkerverein-perg.at
SUMMARY:TV-Tipp: Slowenien\, das Reich der Bienen
DESCRIPTION:
URL:http://www.imkerverein-perg.at/event/tv-tipp-slowenien-das-reich-der-bienen/
LOCATION:TV-Sender – arte
CATEGORIES:TV Tipp
END:VEVENT
END:VCALENDAR