BEGIN:VCALENDAR
VERSION:2.0
PRODID:-//Imkerverein Perg - ECPv4.8.2//NONSGML v1.0//EN
CALSCALE:GREGORIAN
METHOD:PUBLISH
X-WR-CALNAME:Imkerverein Perg
X-ORIGINAL-URL:http://www.imkerverein-perg.at
X-WR-CALDESC:Veranstaltungen im Imkerverein Perg
BEGIN:VEVENT
DTSTART;TZID=Europe/Berlin:20230105T153000
DTEND;TZID=Europe/Berlin:20230105T160000
DTSTAMP:20260424T160705
CREATED:20230102T211132Z
LAST-MODIFIED:20230102T211132Z
UID:698-1672932600-1672934400@www.imkerverein-perg.at
SUMMARY:TV Tipp: Schnittgut Garten-Magazin Kamille | Luftreiniger | Geranien
DESCRIPTION:unter anderem:\nBienen im Winter\nKarl Heinz Sperfeldt ist seit 1975 Imker. Mit seinen 100 Bienenstöcken produziert er rund vier Tonnen Honig im Jahr. Natürlich weiß der Bienenexperte auch\, was die fleißigen Tiere im Winter machen. \n
URL:http://www.imkerverein-perg.at/event/tv-tipp-schnittgut-garten-magazin-kamille-luftreiniger-geranien/
LOCATION:TV-Sender – BR Fernsehen
CATEGORIES:TV Tipp
END:VEVENT
END:VCALENDAR