BEGIN:VCALENDAR
VERSION:2.0
PRODID:-//Imkerverein Perg - ECPv4.8.2//NONSGML v1.0//EN
CALSCALE:GREGORIAN
METHOD:PUBLISH
X-WR-CALNAME:Imkerverein Perg
X-ORIGINAL-URL:http://www.imkerverein-perg.at
X-WR-CALDESC:Veranstaltungen im Imkerverein Perg
BEGIN:VEVENT
DTSTART;TZID=Europe/Berlin:20220811T053000
DTEND;TZID=Europe/Berlin:20220811T054500
DTSTAMP:20260424T171733
CREATED:20220807T204919Z
LAST-MODIFIED:20220807T204919Z
UID:660-1660195800-1660196700@www.imkerverein-perg.at
SUMMARY:TV-Tipp: Planet Schuler - Superaugen
DESCRIPTION:Augen – ein Erfolgsmodell der Evolution. Die erstaunlichen Sehapparate sind für viele verschiedene Lebewesen das Mittel der Wahl\, um sich in ihrer Umwelt zurecht zu finden. Wie viel Hightech in einem Linsenauge steckt\, wie das Scharfstellen funktioniert\, wie die Rezeptoren arbeiten und Bilder im Gehirn entstehen\, all das stellt dieser Film anschaulich dar.  \n
URL:http://www.imkerverein-perg.at/event/tv-tipp-planet-schuler-superaugen/
LOCATION:TV-Sender – SWR
CATEGORIES:TV Tipp
END:VEVENT
END:VCALENDAR