BEGIN:VCALENDAR
VERSION:2.0
PRODID:-//Imkerverein Perg - ECPv4.8.2//NONSGML v1.0//EN
CALSCALE:GREGORIAN
METHOD:PUBLISH
X-WR-CALNAME:Imkerverein Perg
X-ORIGINAL-URL:http://www.imkerverein-perg.at
X-WR-CALDESC:Veranstaltungen im Imkerverein Perg
BEGIN:VEVENT
DTSTART;TZID=Europe/Berlin:20221101T081500
DTEND;TZID=Europe/Berlin:20221101T090000
DTSTAMP:20260424T111735
CREATED:20221031T223621Z
LAST-MODIFIED:20221031T223621Z
UID:682-1667290500-1667293200@www.imkerverein-perg.at
SUMMARY:TV-Tipp: Nelson Müllers Lebensmittelreport
DESCRIPTION:Nelson Müller widmet sich auch dem Honig\, den die Deutschen mit gut einem Kilo jährlichem Pro-Kopf-Verbrauch bevorzugt konsumieren. Regionale Imker können nur einen Bruchteil der nachgefragten Menge liefern. Im Jahr 2017 wurden deshalb mehr als 73 Millionen Tonnen Honig aus Ländern wie Argentinien\, Mexiko oder der Ukraine importiert. Doch nicht immer erkennt der Kunde\, woher die Ware stammt. Nelson Müller zeigt\, wie Hersteller mit billigem China-Honig mischen und Kunden hinters Licht führen.  \n
URL:http://www.imkerverein-perg.at/event/tv-tipp-nelson-muellers-lebensmittelreport/
LOCATION:TV-Sender – ZDFinfo
CATEGORIES:TV Tipp
END:VEVENT
END:VCALENDAR