BEGIN:VCALENDAR
VERSION:2.0
PRODID:-//Imkerverein Perg - ECPv4.8.2//NONSGML v1.0//EN
CALSCALE:GREGORIAN
METHOD:PUBLISH
X-WR-CALNAME:Imkerverein Perg
X-ORIGINAL-URL:http://www.imkerverein-perg.at
X-WR-CALDESC:Veranstaltungen im Imkerverein Perg
BEGIN:VEVENT
DTSTART;TZID=Europe/Berlin:20220404T153000
DTEND;TZID=Europe/Berlin:20220404T153000
DTSTAMP:20260425T011339
CREATED:20220402T221652Z
LAST-MODIFIED:20220402T221652Z
UID:645-1649086200-1649086200@www.imkerverein-perg.at
SUMMARY:TV-Tipp: Charmante Chaoten
DESCRIPTION:Sie fürchten nichts und niemanden\, aber viele fürchten sie: die Honigdachse Südafrikas.  \n
URL:http://www.imkerverein-perg.at/event/tv-tipp-charmante-chaoten/
LOCATION:TV-Sender – 3sat
END:VEVENT
END:VCALENDAR