BEGIN:VCALENDAR
VERSION:2.0
PRODID:-//Imkerverein Perg - ECPv4.8.2//NONSGML v1.0//EN
CALSCALE:GREGORIAN
METHOD:PUBLISH
X-WR-CALNAME:Imkerverein Perg
X-ORIGINAL-URL:http://www.imkerverein-perg.at
X-WR-CALDESC:Veranstaltungen im Imkerverein Perg
BEGIN:VEVENT
DTSTART;TZID=Europe/Berlin:20200615T140000
DTEND;TZID=Europe/Berlin:20200615T144500
DTSTAMP:20260423T100052
CREATED:20200609T190952Z
LAST-MODIFIED:20200609T190952Z
UID:471-1592229600-1592232300@www.imkerverein-perg.at
SUMMARY:TV Tipp: Bilder einer Landschaft - In den Karawanken
DESCRIPTION:In den Karawanken leben Menschen\, die eng mit ihrer Heimat verbunden sind\, und die sich intensiv mit ihrer Geschichte auseinandersetzen. Sie widmen sich dem Erhalt des zweisprachigen kulturellen Erbes und ergreifen die Chance\, die sich den beiden Nachbarländern seit dem EU-Beitritt Sloweniens bietet. \n
URL:http://www.imkerverein-perg.at/event/tv-tipp-bilder-einer-landschaft-in-den-karawanken/
LOCATION:TV-Sender – BR Fernsehen
CATEGORIES:TV Tipp
END:VEVENT
END:VCALENDAR