BEGIN:VCALENDAR
VERSION:2.0
PRODID:-//Imkerverein Perg - ECPv4.8.2//NONSGML v1.0//EN
CALSCALE:GREGORIAN
METHOD:PUBLISH
X-WR-CALNAME:Imkerverein Perg
X-ORIGINAL-URL:http://www.imkerverein-perg.at
X-WR-CALDESC:Veranstaltungen im Imkerverein Perg
BEGIN:VEVENT
DTSTART;TZID=Europe/Berlin:20220808T210000
DTEND;TZID=Europe/Berlin:20220808T213000
DTSTAMP:20260424T172007
CREATED:20220807T205215Z
LAST-MODIFIED:20220807T205215Z
UID:662-1659992400-1659994200@www.imkerverein-perg.at
SUMMARY:TV-Tipp: Bauern\, Blüten\, Bienenvölker
DESCRIPTION:Blühende Flächen an Feldern\, auf Wiesen und an Wegrändern sollen das Insektensterben verhindern und die Artenvielfalt fördern. Ob dies gelingen kann und was Blühstreifen überhaupt bringen\, das versuchen Forscher herauszufinden. \n
URL:http://www.imkerverein-perg.at/event/tv-tipp-bauern-blueten-bienenvoelker/
LOCATION:TV-Sender hr-fernsehen
END:VEVENT
END:VCALENDAR