BEGIN:VCALENDAR
VERSION:2.0
PRODID:-//Imkerverein Perg - ECPv4.8.2//NONSGML v1.0//EN
CALSCALE:GREGORIAN
METHOD:PUBLISH
X-WR-CALNAME:Imkerverein Perg
X-ORIGINAL-URL:http://www.imkerverein-perg.at
X-WR-CALDESC:Veranstaltungen im Imkerverein Perg
BEGIN:VEVENT
DTSTART;TZID=Europe/Berlin:20230520T100000
DTEND;TZID=Europe/Berlin:20230520T170000
DTSTAMP:20260424T222657
CREATED:20230306T213716Z
LAST-MODIFIED:20230424T211606Z
UID:728-1684576800-1684602000@www.imkerverein-perg.at
SUMMARY:Tag des offenen Bienenstocks
DESCRIPTION:Genaue Uhrzeit und Verantstaltungsort noch offen \n
URL:http://www.imkerverein-perg.at/event/tag-des-offenen-bienenstocks/
END:VEVENT
END:VCALENDAR