BEGIN:VCALENDAR
VERSION:2.0
PRODID:-//Imkerverein Perg - ECPv4.8.2//NONSGML v1.0//EN
CALSCALE:GREGORIAN
METHOD:PUBLISH
X-WR-CALNAME:Imkerverein Perg
X-ORIGINAL-URL:http://www.imkerverein-perg.at
X-WR-CALDESC:Veranstaltungen im Imkerverein Perg
BEGIN:VEVENT
DTSTART;TZID=Europe/Berlin:20250514T193000
DTEND;TZID=Europe/Berlin:20250514T220000
DTSTAMP:20260425T204829
CREATED:20250330T203057Z
LAST-MODIFIED:20250330T203057Z
UID:856-1747251000-1747260000@www.imkerverein-perg.at
SUMMARY:Stammtisch
DESCRIPTION:
URL:http://www.imkerverein-perg.at/event/stammtisch-64/
LOCATION:Gasthaus Lettner\, Hauptplatz 15\, Perg\, 4320\, Österreich
CATEGORIES:Stammtisch
END:VEVENT
END:VCALENDAR