BEGIN:VCALENDAR
VERSION:2.0
PRODID:-//Imkerverein Perg - ECPv4.8.2//NONSGML v1.0//EN
CALSCALE:GREGORIAN
METHOD:PUBLISH
X-WR-CALNAME:Imkerverein Perg
X-ORIGINAL-URL:http://www.imkerverein-perg.at
X-WR-CALDESC:Veranstaltungen im Imkerverein Perg
BEGIN:VEVENT
DTSTART;TZID=Europe/Berlin:20230504T193000
DTEND;TZID=Europe/Berlin:20230504T220000
DTSTAMP:20260424T205757
CREATED:20230306T213433Z
LAST-MODIFIED:20230424T205921Z
UID:724-1683228600-1683237600@www.imkerverein-perg.at
SUMMARY:Stammtisch neuer Termin 4. Mai
DESCRIPTION:Aufgrund einer Terminkollision muss der Stammtisch leider vom 3. Mai auf den 4. Mai verschoben werden. \n
URL:http://www.imkerverein-perg.at/event/stammtisch-42/
LOCATION:Gasthaus Lettner\, Hauptplatz 15\, Perg\, 4320\, Österreich
CATEGORIES:Stammtisch
END:VEVENT
END:VCALENDAR