BEGIN:VCALENDAR
VERSION:2.0
PRODID:-//Imkerverein Perg - ECPv4.8.2//NONSGML v1.0//EN
CALSCALE:GREGORIAN
METHOD:PUBLISH
X-WR-CALNAME:Imkerverein Perg
X-ORIGINAL-URL:http://www.imkerverein-perg.at
X-WR-CALDESC:Veranstaltungen im Imkerverein Perg
BEGIN:VEVENT
DTSTART;TZID=Europe/Berlin:20220907T193000
DTEND;TZID=Europe/Berlin:20220907T220000
DTSTAMP:20260424T141419
CREATED:20220824T201043Z
LAST-MODIFIED:20220824T201306Z
UID:667-1662579000-1662588000@www.imkerverein-perg.at
SUMMARY:Stammtisch
DESCRIPTION:
URL:http://www.imkerverein-perg.at/event/stammtisch-36/
LOCATION:Gasthaus Lettner\, Hauptplatz 15\, Perg\, 4320\, Österreich
CATEGORIES:Stammtisch
END:VEVENT
END:VCALENDAR