BEGIN:VCALENDAR
VERSION:2.0
PRODID:-//Imkerverein Perg - ECPv4.8.2//NONSGML v1.0//EN
CALSCALE:GREGORIAN
METHOD:PUBLISH
X-WR-CALNAME:Imkerverein Perg
X-ORIGINAL-URL:http://www.imkerverein-perg.at
X-WR-CALDESC:Veranstaltungen im Imkerverein Perg
BEGIN:VEVENT
DTSTART;TZID=Europe/Berlin:20220309T193000
DTEND;TZID=Europe/Berlin:20220309T220000
DTSTAMP:20260425T023121
CREATED:20220116T211400Z
LAST-MODIFIED:20220215T211923Z
UID:616-1646854200-1646863200@www.imkerverein-perg.at
SUMMARY:Stammtisch
DESCRIPTION:verschoben vom 02. März auf 09. März \n
URL:http://www.imkerverein-perg.at/event/stammtisch-31/
LOCATION:Gasthaus Lettner\, Hauptplatz 15\, Perg\, 4320\, Österreich
CATEGORIES:Stammtisch
END:VEVENT
END:VCALENDAR