BEGIN:VCALENDAR
VERSION:2.0
PRODID:-//Imkerverein Perg - ECPv4.8.2//NONSGML v1.0//EN
CALSCALE:GREGORIAN
METHOD:PUBLISH
X-WR-CALNAME:Imkerverein Perg
X-ORIGINAL-URL:http://www.imkerverein-perg.at
X-WR-CALDESC:Veranstaltungen im Imkerverein Perg
BEGIN:VEVENT
DTSTART;TZID=Europe/Berlin:20221204T110000
DTEND;TZID=Europe/Berlin:20221204T180000
DTSTAMP:20260424T125032
CREATED:20220824T201722Z
LAST-MODIFIED:20220824T201722Z
UID:679-1670151600-1670176800@www.imkerverein-perg.at
SUMMARY:Perger Christkindlmarkt
DESCRIPTION:
URL:http://www.imkerverein-perg.at/event/perger-christkindlmarkt-3/
LOCATION:Perg Christkindlmarkt\, Perg\, 4320\, Österreich
ORGANIZER;CN="Stadtmarketing%20PERG":MAILTO:g.kowatschek@perg.at
END:VEVENT
END:VCALENDAR