BEGIN:VCALENDAR
VERSION:2.0
PRODID:-//Imkerverein Perg - ECPv4.8.2//NONSGML v1.0//EN
CALSCALE:GREGORIAN
METHOD:PUBLISH
X-WR-CALNAME:Imkerverein Perg
X-ORIGINAL-URL:http://www.imkerverein-perg.at
X-WR-CALDESC:Veranstaltungen im Imkerverein Perg
BEGIN:VEVENT
DTSTART;TZID=Europe/Berlin:20220318T190000
DTEND;TZID=Europe/Berlin:20220318T220000
DTSTAMP:20260425T010728
CREATED:20220307T212629Z
LAST-MODIFIED:20220307T212629Z
UID:639-1647630000-1647640800@www.imkerverein-perg.at
SUMMARY:Jahreshauptversammlung Imkerverein Schwertberg
DESCRIPTION:
URL:http://www.imkerverein-perg.at/event/jahreshauptversammlung-imkerverein-schwertberg-2/
LOCATION:Gasthaus Geirhofer\, Hauptstraße 10\, Schwertberg\, 4311\, Österreich
CATEGORIES:Stammtisch
END:VEVENT
END:VCALENDAR