BEGIN:VCALENDAR
VERSION:2.0
PRODID:-//Imkerverein Perg - ECPv4.8.2//NONSGML v1.0//EN
CALSCALE:GREGORIAN
METHOD:PUBLISH
X-WR-CALNAME:Imkerverein Perg
X-ORIGINAL-URL:http://www.imkerverein-perg.at
X-WR-CALDESC:Veranstaltungen im Imkerverein Perg
BEGIN:VEVENT
DTSTART;TZID=Europe/Berlin:20230303T193000
DTEND;TZID=Europe/Berlin:20230303T220000
DTSTAMP:20260424T210500
CREATED:20230208T201305Z
LAST-MODIFIED:20230208T201612Z
UID:711-1677871800-1677880800@www.imkerverein-perg.at
SUMMARY:Jahreshauptversammlung Imkerverein Perg
DESCRIPTION:Mit einem Vortrag von Wanderlehrer Helmlut Eiber zum Thema Propolis und dessen Wirkung \n
URL:http://www.imkerverein-perg.at/event/jahreshauptversammlung-imkerverein-perg-2/
LOCATION:Gasthaus Lettner\, Hauptplatz 15\, Perg\, 4320\, Österreich
CATEGORIES:Jahreshauptversammlung
END:VEVENT
END:VCALENDAR