BEGIN:VCALENDAR
VERSION:2.0
PRODID:-//Imkerverein Perg - ECPv4.8.2//NONSGML v1.0//EN
CALSCALE:GREGORIAN
METHOD:PUBLISH
X-WR-CALNAME:Imkerverein Perg
X-ORIGINAL-URL:http://www.imkerverein-perg.at
X-WR-CALDESC:Veranstaltungen im Imkerverein Perg
BEGIN:VEVENT
DTSTART;TZID=Europe/Berlin:20260220T190000
DTEND;TZID=Europe/Berlin:20260220T220000
DTSTAMP:20260421T092149
CREATED:20260208T201917Z
LAST-MODIFIED:20260208T201917Z
UID:887-1771614000-1771624800@www.imkerverein-perg.at
SUMMARY:Jahreshauptversammlung 2026
DESCRIPTION:
URL:http://www.imkerverein-perg.at/event/jahreshauptversammlung-2026/
LOCATION:Gasthaus Lettner\, Hauptplatz 15\, Perg\, 4320\, Österreich
CATEGORIES:Jahreshauptversammlung
END:VEVENT
END:VCALENDAR