BEGIN:VCALENDAR
VERSION:2.0
PRODID:-//Imkerverein Perg - ECPv4.8.2//NONSGML v1.0//EN
CALSCALE:GREGORIAN
METHOD:PUBLISH
X-WR-CALNAME:Imkerverein Perg
X-ORIGINAL-URL:http://www.imkerverein-perg.at
X-WR-CALDESC:Veranstaltungen im Imkerverein Perg
BEGIN:VEVENT
DTSTART;TZID=Europe/Berlin:20251206T110000
DTEND;TZID=Europe/Berlin:20251206T220000
DTSTAMP:20260421T124807
CREATED:20251130T203219Z
LAST-MODIFIED:20251130T203219Z
UID:882-1765018800-1765058400@www.imkerverein-perg.at
SUMMARY:Christkindlmarkt Perg
DESCRIPTION:
URL:http://www.imkerverein-perg.at/event/christkindlmarkt-perg-11/
LOCATION:Perg Christkindlmarkt\, Perg\, 4320\, Österreich
END:VEVENT
END:VCALENDAR